BEGIN:VCALENDAR
VERSION:2.0
PRODID:-//GTSM - ECPv4.7.4//NONSGML v1.0//EN
CALSCALE:GREGORIAN
METHOD:PUBLISH
X-WR-CALNAME:GTSM
X-ORIGINAL-URL:http://gtsm.net.au
X-WR-CALDESC:Events for GTSM
BEGIN:VEVENT
DTSTART;VALUE=DATE:20190925
DTEND;VALUE=DATE:20190926
DTSTAMP:20190226T202620
CREATED:20190224T232353Z
LAST-MODIFIED:20190224T232353Z
UID:245-1569369600-1569455999@gtsm.net.au
SUMMARY:Tattykeel Ram Sale
DESCRIPTION: \n
URL:http://gtsm.net.au/event/tattykeel-ram-sale/
LOCATION:“On Property” at Tattykeel\, 1919 Abercrombie Rd\, Black Springs.\, New South Wales\, Australia
CATEGORIES:Ram Sale
ATTACH;FMTTYPE=image/png:http://gtsm.net.au/wp-content/uploads/2019/02/Tattykeel.png
END:VEVENT
END:VCALENDAR