BEGIN:VCALENDAR
VERSION:2.0
PRODID:-//GTSM - ECPv4.7.4//NONSGML v1.0//EN
CALSCALE:GREGORIAN
METHOD:PUBLISH
X-WR-CALNAME:GTSM
X-ORIGINAL-URL:http://gtsm.net.au
X-WR-CALDESC:Events for GTSM
BEGIN:VEVENT
DTSTART;TZID=UTC+0:20190304T130000
DTEND;TZID=UTC+0:20190304T160000
DTSTAMP:20190226T202706
CREATED:20190124T040622Z
LAST-MODIFIED:20190211T214639Z
UID:48-1551704400-1551715200@gtsm.net.au
SUMMARY:Dunoon Angus Bull Sale
DESCRIPTION:Further details to come \n
URL:http://gtsm.net.au/event/little-meadows-angus-bull-sale-copy-copy/
CATEGORIES:Bulls sale
END:VEVENT
END:VCALENDAR