BEGIN:VCALENDAR
VERSION:2.0
PRODID:-//GTSM - ECPv4.7.4//NONSGML v1.0//EN
CALSCALE:GREGORIAN
METHOD:PUBLISH
X-WR-CALNAME:GTSM
X-ORIGINAL-URL:http://gtsm.net.au
X-WR-CALDESC:Events for GTSM
BEGIN:VEVENT
DTSTART;TZID=UTC+0:20190305T130000
DTEND;TZID=UTC+0:20190305T170000
DTSTAMP:20190226T202719
CREATED:20190124T004446Z
LAST-MODIFIED:20190211T221618Z
UID:31-1551790800-1551805200@gtsm.net.au
SUMMARY:Alpine Angus Bull Sale
DESCRIPTION:
URL:http://gtsm.net.au/event/little-meadows-angus-bull-sale/
CATEGORIES:Bulls sale
END:VEVENT
END:VCALENDAR