BEGIN:VCALENDAR
VERSION:2.0
PRODID:-//GTSM - ECPv4.7.4//NONSGML v1.0//EN
CALSCALE:GREGORIAN
METHOD:PUBLISH
X-WR-CALNAME:GTSM
X-ORIGINAL-URL:http://gtsm.net.au
X-WR-CALDESC:Events for GTSM
BEGIN:VEVENT
DTSTART;TZID=UTC+0:20190307T130000
DTEND;TZID=UTC+0:20190307T170000
DTSTAMP:20190226T202730
CREATED:20190124T040618Z
LAST-MODIFIED:20190211T221305Z
UID:47-1551963600-1551978000@gtsm.net.au
SUMMARY:Prime Angus Bull Sale
DESCRIPTION:
URL:http://gtsm.net.au/event/little-meadows-angus-bull-sale-copy/
CATEGORIES:Bulls sale
END:VEVENT
END:VCALENDAR